BEGIN:VCALENDAR
VERSION:2.0
PRODID:-//Tukios.com/
BEGIN:VEVENT
UID:b1cc21f2-91b1-4c0a-859f-562fc4ca2fc3@www.rileymortuaryinc.com
DTSTAMP:20260425T160416Z
DTSTART:20260502T140000Z
DTEND:20260502T150000Z
SUMMARY:Mass of Christian Burial
DESCRIPTION:
URL:https://www.rileymortuaryinc.com/obituaries/elizabeth-zurawicki
LOCATION: 156 Main Street  Amsterdam NY 12010
GEO:42.9353359;-74.1875276
END:VEVENT
END:VCALENDAR