BEGIN:VCALENDAR
VERSION:2.0
PRODID:-//Tukios.com/
BEGIN:VEVENT
UID:21f8eb24-76ab-4f9e-baf9-ef627aa4e77b@www.rileymortuaryinc.com
DTSTAMP:20260425T160856Z
DTSTART:20260502T151500Z
DTEND:20260502T153000Z
SUMMARY:Interment
DESCRIPTION:
URL:https://www.rileymortuaryinc.com/obituaries/elizabeth-zurawicki
LOCATION:    Fort Johnson NY 12070
GEO:42.9584075;-74.2329093
END:VEVENT
END:VCALENDAR